BEGIN:VCALENDAR
VERSION:2.0
PRODID:-//Sabre//Sabre VObject 4.5.8//EN
CALSCALE:GREGORIAN
BEGIN:VEVENT
UID:sabre-vobject-b087b126-e18e-4082-93ef-eb14156c4138
DTSTAMP:20260422T184330Z
SUMMARY:Eltern-Kind-Gruppe: Krabbelgruppe Oberndorf-Eggelstetten I - Montag
  09:30-11:00 Uhr
DESCRIPTION:https://keb-donauries.de/veranstaltungen/eltern-kind-gruppe-kra
 bbelgruppe-oberndorf-eggelstetten-i-montag-09-30-11-00-uhr_id297527
DTSTART;TZID=Europe/Berlin:20260518T093000
DTEND;TZID=Europe/Berlin:20260518T110000
LOCATION:Pfarrheim Oberndorf\, Raiffeisenstraße 17\, 86698 Oberndorf am Le
 ch
END:VEVENT
END:VCALENDAR
