BEGIN:VCALENDAR
VERSION:2.0
PRODID:-//Sabre//Sabre VObject 4.5.8//EN
CALSCALE:GREGORIAN
BEGIN:VEVENT
UID:sabre-vobject-2300b8cd-663c-40ca-bfea-384ad319f1ee
DTSTAMP:20260422T171017Z
SUMMARY:Eltern-Kind-Gruppe: Krabbelgruppe Oberndorf-Eggelstetten I - Montag
  09:30-11:00 Uhr
DESCRIPTION:https://keb-donauries.de/veranstaltungen/eltern-kind-gruppe-kra
 bbelgruppe-oberndorf-eggelstetten-i-montag-09-30-11-00-uhr_id297526
DTSTART;TZID=Europe/Berlin:20260511T093000
DTEND;TZID=Europe/Berlin:20260511T110000
LOCATION:Pfarrheim Oberndorf\, Raiffeisenstraße 17\, 86698 Oberndorf am Le
 ch
END:VEVENT
END:VCALENDAR
