BEGIN:VCALENDAR
VERSION:2.0
PRODID:-//Sabre//Sabre VObject 4.5.8//EN
CALSCALE:GREGORIAN
BEGIN:VEVENT
UID:sabre-vobject-4c022b46-8ea6-47bb-9b8c-532d51512a8c
DTSTAMP:20260422T153203Z
SUMMARY:Eltern-Kind-Gruppe: Krabbelgruppe Oberndorf-Eggelstetten I - Montag
  09:30-11:00 Uhr
DESCRIPTION:https://keb-donauries.de/veranstaltungen/eltern-kind-gruppe-kra
 bbelgruppe-oberndorf-eggelstetten-i-montag-09-30-11-00-uhr_id297525
DTSTART;TZID=Europe/Berlin:20260504T093000
DTEND;TZID=Europe/Berlin:20260504T110000
LOCATION:Pfarrheim Oberndorf\, Raiffeisenstraße 17\, 86698 Oberndorf am Le
 ch
END:VEVENT
END:VCALENDAR
