BEGIN:VCALENDAR
VERSION:2.0
PRODID:-//Sabre//Sabre VObject 4.5.8//EN
CALSCALE:GREGORIAN
BEGIN:VEVENT
UID:sabre-vobject-e3489707-aa36-4cb6-8da1-edbeba127646
DTSTAMP:20260423T000226Z
SUMMARY:Die Tradition des Marientragens
DESCRIPTION:https://keb-donauries.de/veranstaltungen/die-tradition-des-mari
 entragens_id297509
DTSTART;TZID=Europe/Berlin:20261209T140000
LOCATION:Kath. Pfarrheim Deiningen\, St.-Martin-Straße 6\, 86738 Deiningen
END:VEVENT
END:VCALENDAR
