BEGIN:VCALENDAR
VERSION:2.0
PRODID:-//Sabre//Sabre VObject 4.5.8//EN
CALSCALE:GREGORIAN
BEGIN:VEVENT
UID:sabre-vobject-7658db9b-09e9-43c4-bb96-5be306ef1159
DTSTAMP:20260422T234445Z
SUMMARY:Afrikanische Nonne
DESCRIPTION:https://keb-donauries.de/veranstaltungen/afrikanische-nonne_id2
 97508
DTSTART;TZID=Europe/Berlin:20261118T140000
LOCATION:Kath. Pfarrheim Deiningen\, St.-Martin-Straße 6\, 86738 Deiningen
END:VEVENT
END:VCALENDAR
