BEGIN:VCALENDAR
VERSION:2.0
PRODID:-//Sabre//Sabre VObject 4.5.8//EN
CALSCALE:GREGORIAN
BEGIN:VEVENT
UID:sabre-vobject-c6d5efa1-f763-4881-aa46-b0e779778085
DTSTAMP:20260422T235733Z
SUMMARY:Franz von Assisi
DESCRIPTION:https://keb-donauries.de/veranstaltungen/franz-von-assisi_id297
 507
DTSTART;TZID=Europe/Berlin:20261014T140000
LOCATION:Kath. Pfarrheim Deiningen\, St.-Martin-Straße 6\, 86738 Deiningen
END:VEVENT
END:VCALENDAR
