BEGIN:VCALENDAR
VERSION:2.0
PRODID:-//Sabre//Sabre VObject 4.5.8//EN
CALSCALE:GREGORIAN
BEGIN:VEVENT
UID:sabre-vobject-caf6a449-8347-44cf-b526-896624e4126b
DTSTAMP:20260423T000259Z
SUMMARY:Erntedank
DESCRIPTION:https://keb-donauries.de/veranstaltungen/erntedank_id297506
DTSTART;TZID=Europe/Berlin:20260917T090000
LOCATION:Kath. Pfarrheim Deiningen\, St.-Martin-Straße 6\, 86738 Deiningen
END:VEVENT
END:VCALENDAR
