BEGIN:VCALENDAR
VERSION:2.0
PRODID:-//Sabre//Sabre VObject 4.5.8//EN
CALSCALE:GREGORIAN
BEGIN:VEVENT
UID:sabre-vobject-32a0a0e6-fe29-45e6-9b3b-216d4e7f92ba
DTSTAMP:20260422T234026Z
SUMMARY:Traumreisen: Phantasiereisen
DESCRIPTION:https://keb-donauries.de/veranstaltungen/traumreisen-phantasier
 eisen_id297505
DTSTART;TZID=Europe/Berlin:20260708T140000
LOCATION:Kath. Pfarrheim Deiningen\, St.-Martin-Straße 6\, 86738 Deiningen
END:VEVENT
END:VCALENDAR
