BEGIN:VCALENDAR
VERSION:2.0
PRODID:-//Sabre//Sabre VObject 4.5.8//EN
CALSCALE:GREGORIAN
BEGIN:VEVENT
UID:sabre-vobject-23478380-9b24-4fe8-8931-d52109f2d85f
DTSTAMP:20260421T085126Z
SUMMARY:Sommersonnwende
DESCRIPTION:https://keb-donauries.de/veranstaltungen/sommersonnwende_id2975
 04
DTSTART;TZID=Europe/Berlin:20260617T140000
LOCATION:Kath. Pfarrheim Deiningen\, St.-Martin-Straße 6\, 86738 Deiningen
END:VEVENT
END:VCALENDAR
