BEGIN:VCALENDAR
VERSION:2.0
PRODID:-//Sabre//Sabre VObject 4.5.8//EN
CALSCALE:GREGORIAN
BEGIN:VEVENT
UID:sabre-vobject-b9b294eb-6777-404b-baa9-1897e5478835
DTSTAMP:20260422T185455Z
SUMMARY:Krabbelfrösche Dienstag 09:30-11:00 Uhr - Asbach-Bäumenheim
DESCRIPTION:https://keb-donauries.de/veranstaltungen/krabbelfroesche-dienst
 ag-09-30-11-00-uhr-asbach-baeumenheim_id297436
DTSTART;TZID=Europe/Berlin:20260519T093000
DTEND;TZID=Europe/Berlin:20260519T110000
LOCATION:Pfarrheim Asbach-Bäumenheim\, Römerstraße 30\, 86663 Asbach-Bä
 umenheim
END:VEVENT
END:VCALENDAR
