BEGIN:VCALENDAR
VERSION:2.0
PRODID:-//Sabre//Sabre VObject 4.5.8//EN
CALSCALE:GREGORIAN
BEGIN:VEVENT
UID:sabre-vobject-987e564f-6b5d-45eb-acf5-3de64548aee5
DTSTAMP:20260422T170823Z
SUMMARY:Krabbelfrösche Dienstag 09:30-11:00 Uhr - Asbach-Bäumenheim
DESCRIPTION:https://keb-donauries.de/veranstaltungen/krabbelfroesche-dienst
 ag-09-30-11-00-uhr-asbach-baeumenheim_id297435
DTSTART;TZID=Europe/Berlin:20260512T093000
DTEND;TZID=Europe/Berlin:20260512T110000
LOCATION:Pfarrheim Asbach-Bäumenheim\, Römerstraße 30\, 86663 Asbach-Bä
 umenheim
END:VEVENT
END:VCALENDAR
