BEGIN:VCALENDAR
VERSION:2.0
PRODID:-//Sabre//Sabre VObject 4.5.8//EN
CALSCALE:GREGORIAN
BEGIN:VEVENT
UID:sabre-vobject-a4636447-504b-49c0-a8c1-5a9ea41feaac
DTSTAMP:20260422T153101Z
SUMMARY:Krabbelfrösche Dienstag 09:30-11:00 Uhr - Asbach-Bäumenheim
DESCRIPTION:https://keb-donauries.de/veranstaltungen/krabbelfroesche-dienst
 ag-09-30-11-00-uhr-asbach-baeumenheim_id297434
DTSTART;TZID=Europe/Berlin:20260505T093000
DTEND;TZID=Europe/Berlin:20260505T110000
LOCATION:Pfarrheim Asbach-Bäumenheim\, Römerstraße 30\, 86663 Asbach-Bä
 umenheim
END:VEVENT
END:VCALENDAR
