BEGIN:VCALENDAR
VERSION:2.0
PRODID:-//Sabre//Sabre VObject 4.5.8//EN
CALSCALE:GREGORIAN
BEGIN:VEVENT
UID:sabre-vobject-796bfda0-586e-42a9-b05c-eb4471f646b8
DTSTAMP:20260423T220705Z
SUMMARY:Führung Pfarrkirche St. Andreas Hainsfarth
DESCRIPTION:https://keb-donauries.de/veranstaltungen/fuehrung-pfarrkirche-s
 t-andreas-hainsfarth_id297414
DTSTART;TZID=Europe/Berlin:20260504T190000
LOCATION:Pfarrkirche Hainsfarth\, Pfarrgasse 1\, 86744 Hainsfarth
END:VEVENT
END:VCALENDAR
