BEGIN:VCALENDAR
VERSION:2.0
PRODID:-//Sabre//Sabre VObject 4.5.8//EN
CALSCALE:GREGORIAN
BEGIN:VEVENT
UID:sabre-vobject-c778b2cf-bc9b-494e-9af7-89bb46d45ba3
DTSTAMP:20260422T184330Z
SUMMARY:Eltern-Kind-Gruppe Marxheim Dienstag 10:30-11:45
DESCRIPTION:https://keb-donauries.de/veranstaltungen/eltern-kind-gruppe-mar
 xheim-dienstag-10-30-11-45_id297125
DTSTART;TZID=Europe/Berlin:20260519T103000
DTEND;TZID=Europe/Berlin:20260519T120000
LOCATION:Kindergarten St. Peter und Paul Marxheim\, Bayernstraße 11\, 8668
 8 Marxheim
END:VEVENT
END:VCALENDAR
