BEGIN:VCALENDAR
VERSION:2.0
PRODID:-//Sabre//Sabre VObject 4.5.8//EN
CALSCALE:GREGORIAN
BEGIN:VEVENT
UID:sabre-vobject-d34d9a0e-91c7-433b-a343-ab0eac6431f3
DTSTAMP:20260422T184208Z
SUMMARY:Eltern-Kind-Gruppe Marxheim Dienstag 10:30-11:45
DESCRIPTION:https://keb-donauries.de/veranstaltungen/eltern-kind-gruppe-mar
 xheim-dienstag-10-30-11-45_id297124
DTSTART;TZID=Europe/Berlin:20260512T103000
DTEND;TZID=Europe/Berlin:20260512T120000
LOCATION:Kindergarten St. Peter und Paul Marxheim\, Bayernstraße 11\, 8668
 8 Marxheim
END:VEVENT
END:VCALENDAR
