BEGIN:VCALENDAR
VERSION:2.0
PRODID:-//Sabre//Sabre VObject 4.5.8//EN
CALSCALE:GREGORIAN
BEGIN:VEVENT
UID:sabre-vobject-17dcdbe6-1889-4d36-828b-9df720f51cb7
DTSTAMP:20260422T153203Z
SUMMARY:Eltern-Kind-Gruppe Marxheim Dienstag 10:30-11:45
DESCRIPTION:https://keb-donauries.de/veranstaltungen/eltern-kind-gruppe-mar
 xheim-dienstag-10-30-11-45_id297123
DTSTART;TZID=Europe/Berlin:20260505T103000
DTEND;TZID=Europe/Berlin:20260505T120000
LOCATION:Kindergarten St. Peter und Paul Marxheim\, Bayernstraße 11\, 8668
 8 Marxheim
END:VEVENT
END:VCALENDAR
