BEGIN:VCALENDAR
VERSION:2.0
PRODID:-//Sabre//Sabre VObject 4.5.8//EN
CALSCALE:GREGORIAN
BEGIN:VEVENT
UID:sabre-vobject-5c3b60de-c4b4-49a1-873f-5dbb0a7bac7e
DTSTAMP:20260422T184128Z
SUMMARY:Eltern-Kind-Gruppe Maihingen Dienstag 09:30-11:00 Uhr
DESCRIPTION:https://keb-donauries.de/veranstaltungen/eltern-kind-gruppe-mai
 hingen-dienstag-09-30-11-00-uhr_id296702
DTSTART;TZID=Europe/Berlin:20260519T093000
DTEND;TZID=Europe/Berlin:20260519T110000
LOCATION:Theaterheim Maihingen\, Pfarrer-Wolpert-Straße 5\, 86747 Maihinge
 n
END:VEVENT
END:VCALENDAR
