BEGIN:VCALENDAR
VERSION:2.0
PRODID:-//Sabre//Sabre VObject 4.5.8//EN
CALSCALE:GREGORIAN
BEGIN:VEVENT
UID:sabre-vobject-78bd562d-0e99-4788-ada5-b327f9048d08
DTSTAMP:20260422T154754Z
SUMMARY:Eltern-Kind-Gruppe Maihingen Dienstag 09:30-11:00 Uhr
DESCRIPTION:https://keb-donauries.de/veranstaltungen/eltern-kind-gruppe-mai
 hingen-dienstag-09-30-11-00-uhr_id296700
DTSTART;TZID=Europe/Berlin:20260505T093000
DTEND;TZID=Europe/Berlin:20260505T110000
LOCATION:Theaterheim Maihingen\, Pfarrer-Wolpert-Straße 5\, 86747 Maihinge
 n
END:VEVENT
END:VCALENDAR
