BEGIN:VCALENDAR
VERSION:2.0
PRODID:-//Sabre//Sabre VObject 4.5.8//EN
CALSCALE:GREGORIAN
BEGIN:VEVENT
UID:sabre-vobject-ab782409-46d4-4012-9699-03ac99a08dea
DTSTAMP:20260422T134555Z
SUMMARY:Eltern-Kind-Gruppe Maihingen Dienstag 09:30-11:00 Uhr
DESCRIPTION:https://keb-donauries.de/veranstaltungen/eltern-kind-gruppe-mai
 hingen-dienstag-09-30-11-00-uhr_id296699
DTSTART;TZID=Europe/Berlin:20260428T093000
DTEND;TZID=Europe/Berlin:20260428T110000
LOCATION:Theaterheim Maihingen\, Pfarrer-Wolpert-Straße 5\, 86747 Maihinge
 n
END:VEVENT
END:VCALENDAR
