BEGIN:VCALENDAR
VERSION:2.0
PRODID:-//Sabre//Sabre VObject 4.5.8//EN
CALSCALE:GREGORIAN
BEGIN:VEVENT
UID:sabre-vobject-9341c369-f32e-4d2a-a5b9-8938bf05d639
DTSTAMP:20260422T214127Z
SUMMARY:Eltern-Kind-Gruppe Krabbelkäfer Monheim Donnerstag 09:45-11:15 Uhr
DESCRIPTION:https://keb-donauries.de/veranstaltungen/eltern-kind-gruppe-kra
 bbelkaefer-monheim-donnerstag-09-45-11-15-uhr_id296670
DTSTART;TZID=Europe/Berlin:20260528T094500
DTEND;TZID=Europe/Berlin:20260528T111500
LOCATION:Haus St. Walburg Monheim\, Kirchstraße 16\, 86653 Monheim
END:VEVENT
END:VCALENDAR
