BEGIN:VCALENDAR
VERSION:2.0
PRODID:-//Sabre//Sabre VObject 4.5.8//EN
CALSCALE:GREGORIAN
BEGIN:VEVENT
UID:sabre-vobject-fd3adc88-2f72-40e3-97f6-3cc699c230b2
DTSTAMP:20260422T214656Z
SUMMARY:Eltern-Kind-Gruppe Krabbelkäfer Monheim Donnerstag 09:45-11:15 Uhr
DESCRIPTION:https://keb-donauries.de/veranstaltungen/eltern-kind-gruppe-kra
 bbelkaefer-monheim-donnerstag-09-45-11-15-uhr_id296669
DTSTART;TZID=Europe/Berlin:20260521T094500
DTEND;TZID=Europe/Berlin:20260521T111500
LOCATION:Haus St. Walburg Monheim\, Kirchstraße 16\, 86653 Monheim
END:VEVENT
END:VCALENDAR
