BEGIN:VCALENDAR
VERSION:2.0
PRODID:-//Sabre//Sabre VObject 4.5.8//EN
CALSCALE:GREGORIAN
BEGIN:VEVENT
UID:sabre-vobject-b66ce804-a174-467d-aed6-66e247a9d268
DTSTAMP:20260422T171017Z
SUMMARY:Eltern-Kind-Gruppe Krabbelkäfer Monheim Donnerstag 09:45-11:15 Uhr
DESCRIPTION:https://keb-donauries.de/veranstaltungen/eltern-kind-gruppe-kra
 bbelkaefer-monheim-donnerstag-09-45-11-15-uhr_id296668
DTSTART;TZID=Europe/Berlin:20260507T094500
DTEND;TZID=Europe/Berlin:20260507T111500
LOCATION:Haus St. Walburg Monheim\, Kirchstraße 16\, 86653 Monheim
END:VEVENT
END:VCALENDAR
