BEGIN:VCALENDAR
VERSION:2.0
PRODID:-//Sabre//Sabre VObject 4.5.8//EN
CALSCALE:GREGORIAN
BEGIN:VEVENT
UID:sabre-vobject-b4325c7c-8a95-443e-8746-83ad0ce8621f
DTSTAMP:20260422T174417Z
SUMMARY:Krabbelgruppe Kaisheim Mittwoch Nachmittag 09:00 - 10:30 Uhr
DESCRIPTION:https://keb-donauries.de/veranstaltungen/krabbelgruppe-kaisheim
 -mittwoch-nachmittag-09-00-10-30-uhr_id296648
DTSTART;TZID=Europe/Berlin:20260506T090000
DTEND;TZID=Europe/Berlin:20260506T103000
LOCATION:Krabbelgruppenraum Kaisheim\, Hauptstraße 44\, 86687 Kaisheim
END:VEVENT
END:VCALENDAR
