BEGIN:VCALENDAR
VERSION:2.0
PRODID:-//Sabre//Sabre VObject 4.5.8//EN
CALSCALE:GREGORIAN
BEGIN:VEVENT
UID:sabre-vobject-6583959f-1615-4350-bb00-aa9231b02684
DTSTAMP:20260422T174213Z
SUMMARY:Krabbelkäfer Reimlingen Mittwoch 09:30-11:_00 Uhr
DESCRIPTION:https://keb-donauries.de/veranstaltungen/krabbelkaefer-reimling
 en-mittwoch-09-30-11-00-uhr_id296636
DTSTART;TZID=Europe/Berlin:20260506T093000
DTEND;TZID=Europe/Berlin:20260506T110000
LOCATION:Kindergarten Reimlingen\, Raiffeisenstraße 4\, 86756 Reimlingen
END:VEVENT
END:VCALENDAR
