BEGIN:VCALENDAR
VERSION:2.0
PRODID:-//Sabre//Sabre VObject 4.5.8//EN
CALSCALE:GREGORIAN
BEGIN:VEVENT
UID:sabre-vobject-713f2d54-b526-4701-96c7-0ab218a9e698
DTSTAMP:20260422T203507Z
SUMMARY:Eltern-Kind-Gruppe Fünfstetten -Krabbelgruppe- Donnerstag 09:00-10
 :30 Uhr
DESCRIPTION:https://keb-donauries.de/veranstaltungen/eltern-kind-gruppe-fue
 nfstetten-krabbelgruppe-donnerstag-09-00-10-30-uhr_id296418
DTSTART;TZID=Europe/Berlin:20260521T090000
DTEND;TZID=Europe/Berlin:20260521T103000
LOCATION:Pfarrheim Fünfstetten\, Pfarrgasse 3\, 86681 Fünfstetten
END:VEVENT
END:VCALENDAR
