BEGIN:VCALENDAR
VERSION:2.0
PRODID:-//Sabre//Sabre VObject 4.5.8//EN
CALSCALE:GREGORIAN
BEGIN:VEVENT
UID:sabre-vobject-c4472a0e-c611-49e9-8921-117d15738d6b
DTSTAMP:20260422T174417Z
SUMMARY:Eltern-Kind-Gruppe Fünfstetten -Krabbelgruppe- Donnerstag 09:00-10
 :30 Uhr
DESCRIPTION:https://keb-donauries.de/veranstaltungen/eltern-kind-gruppe-fue
 nfstetten-krabbelgruppe-donnerstag-09-00-10-30-uhr_id296417
DTSTART;TZID=Europe/Berlin:20260507T090000
DTEND;TZID=Europe/Berlin:20260507T103000
LOCATION:Pfarrheim Fünfstetten\, Pfarrgasse 3\, 86681 Fünfstetten
END:VEVENT
END:VCALENDAR
