BEGIN:VCALENDAR
VERSION:2.0
PRODID:-//Sabre//Sabre VObject 4.5.8//EN
CALSCALE:GREGORIAN
BEGIN:VEVENT
UID:sabre-vobject-e22e08a6-8526-4cbd-9599-5dd6dce41846
DTSTAMP:20260419T155302Z
SUMMARY:Eltern-Kind-Gruppe Fünfstetten -Krabbelgruppe- Donnerstag 09:00-10
 :30 Uhr
DESCRIPTION:https://keb-donauries.de/veranstaltungen/eltern-kind-gruppe-fue
 nfstetten-krabbelgruppe-donnerstag-09-00-10-30-uhr_id296415
DTSTART;TZID=Europe/Berlin:20260423T090000
DTEND;TZID=Europe/Berlin:20260423T103000
LOCATION:Pfarrheim Fünfstetten\, Pfarrgasse 3\, 86681 Fünfstetten
END:VEVENT
END:VCALENDAR
