BEGIN:VCALENDAR
VERSION:2.0
PRODID:-//Sabre//Sabre VObject 4.5.8//EN
CALSCALE:GREGORIAN
BEGIN:VEVENT
UID:sabre-vobject-4fa4e291-15c2-404d-9c85-19aa9eb00585
DTSTAMP:20260423T004452Z
SUMMARY:Krabbelgruppe Wolferstadt Mittwoch: 09.30Uhr-11.00Uhr
DESCRIPTION:https://keb-donauries.de/veranstaltungen/krabbelgruppe-wolferst
 adt-mittwoch-09-30uhr-11-00uhr_id296397
DTSTART;TZID=Europe/Berlin:20260610T093000
DTEND;TZID=Europe/Berlin:20260610T110000
LOCATION:Kath. Pfarrheim Wolferstadt\, Am Kirchberg 7\, 86709 Wolferstadt
END:VEVENT
END:VCALENDAR
