BEGIN:VCALENDAR
VERSION:2.0
PRODID:-//Sabre//Sabre VObject 4.5.8//EN
CALSCALE:GREGORIAN
BEGIN:VEVENT
UID:sabre-vobject-293f3f90-82a0-4a0b-bd68-bd6da7d4a73b
DTSTAMP:20260422T214626Z
SUMMARY:Krabbelgruppe Wolferstadt Mittwoch: 09.30Uhr-11.00Uhr
DESCRIPTION:https://keb-donauries.de/veranstaltungen/krabbelgruppe-wolferst
 adt-mittwoch-09-30uhr-11-00uhr_id296396
DTSTART;TZID=Europe/Berlin:20260520T093000
DTEND;TZID=Europe/Berlin:20260520T110000
LOCATION:Kath. Pfarrheim Wolferstadt\, Am Kirchberg 7\, 86709 Wolferstadt
END:VEVENT
END:VCALENDAR
