BEGIN:VCALENDAR
VERSION:2.0
PRODID:-//Sabre//Sabre VObject 4.5.8//EN
CALSCALE:GREGORIAN
BEGIN:VEVENT
UID:sabre-vobject-7ad3722d-3113-4797-a598-7ce43ad2d074
DTSTAMP:20260422T192436Z
SUMMARY:Krabbelgruppe Wolferstadt Mittwoch: 09.30Uhr-11.00Uhr
DESCRIPTION:https://keb-donauries.de/veranstaltungen/krabbelgruppe-wolferst
 adt-mittwoch-09-30uhr-11-00uhr_id296394
DTSTART;TZID=Europe/Berlin:20260506T093000
DTEND;TZID=Europe/Berlin:20260506T110000
LOCATION:Kath. Pfarrheim Wolferstadt\, Am Kirchberg 7\, 86709 Wolferstadt
END:VEVENT
END:VCALENDAR
