BEGIN:VCALENDAR
VERSION:2.0
PRODID:-//Sabre//Sabre VObject 4.5.8//EN
CALSCALE:GREGORIAN
BEGIN:VEVENT
UID:sabre-vobject-7251c099-3b09-4dd3-ac17-89c5259de2fd
DTSTAMP:20260419T155206Z
SUMMARY:Krabbelgruppe Wolferstadt Mittwoch: 09.30Uhr-11.00Uhr
DESCRIPTION:https://keb-donauries.de/veranstaltungen/krabbelgruppe-wolferst
 adt-mittwoch-09-30uhr-11-00uhr_id296392
DTSTART;TZID=Europe/Berlin:20260422T093000
DTEND;TZID=Europe/Berlin:20260422T110000
LOCATION:Kath. Pfarrheim Wolferstadt\, Am Kirchberg 7\, 86709 Wolferstadt
END:VEVENT
END:VCALENDAR
