BEGIN:VCALENDAR
VERSION:2.0
PRODID:-//Sabre//Sabre VObject 4.5.8//EN
CALSCALE:GREGORIAN
BEGIN:VEVENT
UID:sabre-vobject-7ef2efa5-7d29-4cee-8832-8c0e49453bd9
DTSTAMP:20260422T184956Z
SUMMARY:Krabbelgruppe Kaisheim Mittwoch Nachmittag 15:00-16:30 Uhr
DESCRIPTION:https://keb-donauries.de/veranstaltungen/krabbelgruppe-kaisheim
 -mittwoch-nachmittag-15-00-16-30-uhr_id296376
DTSTART;TZID=Europe/Berlin:20260513T150000
DTEND;TZID=Europe/Berlin:20260513T163000
LOCATION:Krabbelgruppenraum Kaisheim\, Hauptstraße 44\, 86687 Kaisheim
END:VEVENT
END:VCALENDAR
