BEGIN:VCALENDAR
VERSION:2.0
PRODID:-//Sabre//Sabre VObject 4.5.8//EN
CALSCALE:GREGORIAN
BEGIN:VEVENT
UID:sabre-vobject-f857508d-0c6b-40c9-b559-efe6c1afa585
DTSTAMP:20260423T010451Z
SUMMARY:Eltern-Kind-Gruppe Krabbelzwerge Monheim Mittwoch 09:30-11:00 Uhr
DESCRIPTION:https://keb-donauries.de/veranstaltungen/eltern-kind-gruppe-kra
 bbelzwerge-monheim-mittwoch-09-30-11-00-uhr_id294350
DTSTART;TZID=Europe/Berlin:20260610T093000
DTEND;TZID=Europe/Berlin:20260610T110000
LOCATION:Haus St. Walburg Monheim\, Kirchstraße 16\, 86653 Monheim
END:VEVENT
END:VCALENDAR
