BEGIN:VCALENDAR
VERSION:2.0
PRODID:-//Sabre//Sabre VObject 4.5.8//EN
CALSCALE:GREGORIAN
BEGIN:VEVENT
UID:sabre-vobject-d2f9413a-d31d-41d1-8a86-db314afe501a
DTSTAMP:20260419T155454Z
SUMMARY:Eltern-Kind-Gruppe Krabbelzwerge Monheim Mittwoch 09:30-11:00 Uhr
DESCRIPTION:https://keb-donauries.de/veranstaltungen/eltern-kind-gruppe-kra
 bbelzwerge-monheim-mittwoch-09-30-11-00-uhr_id294345
DTSTART;TZID=Europe/Berlin:20260422T093000
DTEND;TZID=Europe/Berlin:20260422T110000
LOCATION:Haus St. Walburg Monheim\, Kirchstraße 16\, 86653 Monheim
END:VEVENT
END:VCALENDAR
