BEGIN:VCALENDAR
VERSION:2.0
PRODID:-//Sabre//Sabre VObject 4.5.8//EN
CALSCALE:GREGORIAN
BEGIN:VEVENT
UID:sabre-vobject-8e93ca15-9de6-4fad-907d-34da725ddf4a
DTSTAMP:20260421T183056Z
SUMMARY:Als das Jesuskind rot wurde - Weihnachten mit großen Malern
DESCRIPTION:https://keb-donauries.de/veranstaltungen/als-das-jesuskind-rot-
 wurde-weihnachten-mit-grossen-malern_id294328
DTSTART;TZID=Europe/Berlin:20261201T140000
LOCATION:Pfarrzentrum St. Salvator Nördlingen\, Salvatorgasse 2\, 86720 N
 ördlingen
END:VEVENT
END:VCALENDAR
