BEGIN:VCALENDAR
VERSION:2.0
PRODID:-//Sabre//Sabre VObject 4.5.8//EN
CALSCALE:GREGORIAN
BEGIN:VEVENT
UID:sabre-vobject-305fcf48-d284-4ee1-8d65-4e590715e2fb
DTSTAMP:20260421T104906Z
SUMMARY:Wir gedenken unserer verstorbenen langjährigen Mitgliedern
DESCRIPTION:https://keb-donauries.de/veranstaltungen/wir-gedenken-unserer-v
 erstorbenen-langjaehrigen-mitgliedern_id294327
DTSTART;TZID=Europe/Berlin:20261103T140000
LOCATION:Stüble St. Salvator Nördlingen\, Salvatorgasse 12\, 86720 Nördl
 ingen
END:VEVENT
END:VCALENDAR
