BEGIN:VCALENDAR
VERSION:2.0
PRODID:-//Sabre//Sabre VObject 4.5.8//EN
CALSCALE:GREGORIAN
BEGIN:VEVENT
UID:sabre-vobject-192936f8-ac03-4d67-a3be-dd0b49b82f80
DTSTAMP:20260421T120439Z
SUMMARY:Erntedank und Kirchweih
DESCRIPTION:https://keb-donauries.de/veranstaltungen/erntedank-und-kirchwei
 h_id294326
DTSTART;TZID=Europe/Berlin:20261006T140000
LOCATION:Pfarrzentrum St. Salvator Nördlingen\, Salvatorgasse 12\, 86720 N
 ördlingen
END:VEVENT
END:VCALENDAR
