BEGIN:VCALENDAR
VERSION:2.0
PRODID:-//Sabre//Sabre VObject 4.5.8//EN
CALSCALE:GREGORIAN
BEGIN:VEVENT
UID:sabre-vobject-c46b3b9c-7ea5-4888-83c8-3dae936ab7e4
DTSTAMP:20260423T142354Z
SUMMARY:Fränkische Seenlandschaft
DESCRIPTION:https://keb-donauries.de/veranstaltungen/fraenkische-seenlandsc
 haft_id294323
DTSTART;TZID=Europe/Berlin:20260602T140000
LOCATION:Pfarrsaal St. Salvator Nördlingen\, Salvatorgasse 12\, 86720 Nör
 dlingen
END:VEVENT
END:VCALENDAR
