BEGIN:VCALENDAR
VERSION:2.0
PRODID:-//Sabre//Sabre VObject 4.5.8//EN
CALSCALE:GREGORIAN
BEGIN:VEVENT
UID:sabre-vobject-c8da78f4-81f3-4ab2-b888-50bb78f4f3d4
DTSTAMP:20260423T090527Z
SUMMARY:Die leisen Kräfte sind es\, die das Leben tragen (Romano Guardini)
DESCRIPTION:https://keb-donauries.de/veranstaltungen/die-leisen-kraefte-sin
 d-es-die-das-leben-tragen-romano-guardini_id293744
DTSTART;TZID=Europe/Berlin:20260320T193000
LOCATION:Maria-Ward-Realschule Wallerstein\, Herrenstraße 15\, 86757 Walle
 rstein
END:VEVENT
END:VCALENDAR
