BEGIN:VCALENDAR
VERSION:2.0
PRODID:-//Sabre//Sabre VObject 4.5.8//EN
CALSCALE:GREGORIAN
BEGIN:VEVENT
UID:sabre-vobject-22cfeb18-6393-4bf5-96a7-9d55b4eb1c10
DTSTAMP:20260422T170823Z
SUMMARY:Mäuschengruppe Gempfing Montag 09:30 Uhr - 11:00 Uhr KDFB
DESCRIPTION:https://keb-donauries.de/veranstaltungen/maeuschengruppe-gempfi
 ng-montag-09-30-uhr-11-00-uhr-kdfb_id287785
DTSTART;TZID=Europe/Berlin:20260511T093000
DTEND;TZID=Europe/Berlin:20260511T110000
LOCATION:Pfarrhof Gempfing\, Burgheimer Straße 2\, 86641 Rain
END:VEVENT
END:VCALENDAR
