BEGIN:VCALENDAR
VERSION:2.0
PRODID:-//Sabre//Sabre VObject 4.5.8//EN
CALSCALE:GREGORIAN
BEGIN:VEVENT
UID:sabre-vobject-73830376-c332-4a1e-9adc-bbb08a304ea6
DTSTAMP:20260421T090012Z
SUMMARY:Kirchenführung in Maria Himmelfahrt Hochaltingen
DESCRIPTION:https://keb-donauries.de/veranstaltungen/kirchenfuehrung-in-mar
 ia-himmelfahrt-hochaltingen_id284839
DTSTART;TZID=Europe/Berlin:20250811T133000
LOCATION:Maria Himmelfahrt Hochaltingen\, Schlossstraße 11\, 86742 Fremdin
 gen
END:VEVENT
END:VCALENDAR
