BEGIN:VCALENDAR
VERSION:2.0
PRODID:-//Sabre//Sabre VObject 4.5.8//EN
CALSCALE:GREGORIAN
BEGIN:VEVENT
UID:sabre-vobject-7b758232-d955-45cd-b72c-af870f37e2c0
DTSTAMP:20260419T125241Z
SUMMARY:Bildungsfahrt nach Nordhausen in die Steinkultur und den Naturgarte
 n von H. Josef Schaeble
DESCRIPTION:https://keb-donauries.de/veranstaltungen/bildungsfahrt-nach-nor
 dhausen-in-die-steinkultur-und-den-naturgarten-von-h-josef-schaeble_id2797
 30
DTSTART;TZID=Europe/Berlin:20250910T190000
LOCATION:Josef A. Schaeble\, Am Ölberg 5\, 73485 Unterschneidheim
END:VEVENT
END:VCALENDAR
