BEGIN:VCALENDAR
VERSION:2.0
PRODID:-//Sabre//Sabre VObject 4.5.8//EN
CALSCALE:GREGORIAN
BEGIN:VEVENT
UID:sabre-vobject-b3c2b26f-d300-4e64-8d96-b2b04c737f0b
DTSTAMP:20260419T181639Z
SUMMARY:Palmkreuze Teil II - Symbolik und Gestaltung
DESCRIPTION:https://keb-donauries.de/veranstaltungen/palmkreuze-teil-ii-sym
 bolik-und-gestaltung_id259765
DTSTART;TZID=Europe/Berlin:20250326T200000
LOCATION:Pfarrheim Kleinerdlingen\, Erninger Straße 41\, 86720 Nördlingen
END:VEVENT
END:VCALENDAR
