BEGIN:VCALENDAR
VERSION:2.0
PRODID:-//Sabre//Sabre VObject 4.5.8//EN
CALSCALE:GREGORIAN
BEGIN:VEVENT
UID:sabre-vobject-455c6fc5-39fa-47cf-950c-aacacc1de8d4
DTSTAMP:20260421T093127Z
SUMMARY:Eltern-Kind-Gruppe Maihingen Dienstag
DESCRIPTION:https://keb-donauries.de/veranstaltungen/eltern-kind-gruppe-mai
 hingen-dienstag_id250554
DTSTART;TZID=Europe/Berlin:20250429T093000
DTEND;TZID=Europe/Berlin:20250429T110000
LOCATION:Theaterheim Maihingen\, Pfarrer-Wolpert-Straße 5\, 86747 Maihinge
 n
END:VEVENT
END:VCALENDAR
