BEGIN:VCALENDAR
VERSION:2.0
PRODID:-//Sabre//Sabre VObject 4.5.8//EN
CALSCALE:GREGORIAN
BEGIN:VEVENT
UID:sabre-vobject-b2c02209-4951-40eb-baf0-4717c06de4e5
DTSTAMP:20260421T085927Z
SUMMARY:Mäusegruppe 2 Gempfing Montag 10:15-11:45Uhr
DESCRIPTION:https://keb-donauries.de/veranstaltungen/maeusegruppe-2-gempfin
 g-montag-10-15-11-45uhr_id250067
DTSTART;TZID=Europe/Berlin:20241209T101500
DTEND;TZID=Europe/Berlin:20241209T114500
LOCATION:Pfarrhof Gempfing\, Burgheimer Straße 2\, 86641 Rain
END:VEVENT
END:VCALENDAR
