BEGIN:VCALENDAR
VERSION:2.0
PRODID:-//Sabre//Sabre VObject 4.5.8//EN
CALSCALE:GREGORIAN
BEGIN:VEVENT
UID:sabre-vobject-74d1b40e-31c7-419e-affb-bc1b6b471e32
DTSTAMP:20260421T183430Z
SUMMARY:Ich bin das Licht der Welt
DESCRIPTION:https://keb-donauries.de/veranstaltungen/ich-bin-das-licht-der-
 welt_id243646
DTSTART;TZID=Europe/Berlin:20241201T143000
LOCATION:Gemeindezentrum Holheim\, Nördlinger Straße 1A\, 86720 Nördling
 en
END:VEVENT
END:VCALENDAR
