BEGIN:VCALENDAR
VERSION:2.0
PRODID:-//Sabre//Sabre VObject 4.5.8//EN
CALSCALE:GREGORIAN
BEGIN:VEVENT
UID:sabre-vobject-6e562d37-7d78-406e-bb94-4357bdda0cc0
DTSTAMP:20260421T093127Z
SUMMARY:Eltern-Kind-Gruppe Marxheim Dienstag
DESCRIPTION:https://keb-donauries.de/veranstaltungen/eltern-kind-gruppe-mar
 xheim-dienstag_id235700
DTSTART;TZID=Europe/Berlin:20240709T103000
DTEND;TZID=Europe/Berlin:20240709T120000
LOCATION:Kindergarten St. Peter und Paul Marxheim\, Bayernstraße 11\, 8668
 8 Marxheim
END:VEVENT
END:VCALENDAR
