BEGIN:VCALENDAR
VERSION:2.0
PRODID:-//Sabre//Sabre VObject 4.5.8//EN
CALSCALE:GREGORIAN
BEGIN:VEVENT
UID:sabre-vobject-c902019b-4c29-4001-be8d-599caf4d34b6
DTSTAMP:20260421T090012Z
SUMMARY:Eltern-Kind-Gruppe Mittwoch 10-11.30 Uhr - KDFB Holzheim
DESCRIPTION:https://keb-donauries.de/veranstaltungen/eltern-kind-gruppe-mit
 twoch-10-11-30-uhr-kdfb-holzheim_id234419
DTSTART;TZID=Europe/Berlin:20240710T100000
DTEND;TZID=Europe/Berlin:20240710T113000
LOCATION:Gruppenraum im Feuerwehrhaus Pessenburgheim\, Ringstraße 3\, 8668
 4 Holzheim
END:VEVENT
END:VCALENDAR
