BEGIN:VCALENDAR
VERSION:2.0
PRODID:-//Sabre//Sabre VObject 4.5.8//EN
CALSCALE:GREGORIAN
BEGIN:VEVENT
UID:sabre-vobject-b3c6c4f2-5634-41fc-84e2-f3586c749fbe
DTSTAMP:20260419T141437Z
SUMMARY:Eltern-Kind-Gruppe Mittwoch 10-11.30 Uhr - KDFB Holzheim
DESCRIPTION:https://keb-donauries.de/veranstaltungen/eltern-kind-gruppe-mit
 twoch-10-11-30-uhr-kdfb-holzheim_id234418
DTSTART;TZID=Europe/Berlin:20240703T100000
DTEND;TZID=Europe/Berlin:20240703T113000
LOCATION:Gruppenraum im Feuerwehrhaus Pessenburgheim\, Ringstraße 3\, 8668
 4 Holzheim
END:VEVENT
END:VCALENDAR
