BEGIN:VCALENDAR
VERSION:2.0
PRODID:-//Sabre//Sabre VObject 4.5.8//EN
CALSCALE:GREGORIAN
BEGIN:VEVENT
UID:sabre-vobject-f5d1e6b6-6f11-44da-86b8-dbc6f8041221
DTSTAMP:20260421T143805Z
SUMMARY:Bildungsfahrt nach Freising
DESCRIPTION:https://keb-donauries.de/veranstaltungen/bildungsfahrt-nach-fre
 ising_id223197
DTSTART;TZID=Europe/Berlin:20240611T080000
LOCATION:Johannisweiher Wemding\, Johannisgraben 9\, 86650 Wemding
END:VEVENT
END:VCALENDAR
